BEGIN:VCALENDAR
VERSION:2.0
PRODID:-//Agenda du Perche//Agenda du Perche//FR
CALSCALE:GREGORIAN
METHOD:PUBLISH
X-WR-CALNAME:Agenda du Perche
X-WR-DESC:Événements du territoire du Perche
X-WR-TIMEZONE:Europe/Paris
BEGIN:VEVENT
UID:831@agendaperche
DTSTAMP:20260419T155416
DTSTART:20260401T090000
DTEND:20260630T170000
SUMMARY:Parcours Ferme-École
DESCRIPTION:Plus d'infos : https://www.agendaduperche.fr/events/stages-d-immersion-decouvrez-le-metier-d-agriculteur-rice-dans-le-perche-formation-saint-germain-de-la-coudre\n\nVous êtes en réflexion professionnelle, en reconversion ou déjà formé en agriculture ? Le Parc naturel régional du Perche et Rhizome ont créé le parcours Ferme-École.\nCe dispositif est destiné à celles et ceux qui souhaitent découvrir, tester ou approfondir le métier d’agriculteur à travers des stages en immersion au cœur de fermes en élevage du Perche.\nAu programme :\n* Découvrir le quotidien des éleveurs du Perche.\n* Tester et approfondir le métier d'agriculteur.rice.\n* Bénéficier d'un accompagnement personnalisé pour construire son projet.\n* Acquérir de l'expérience concrète.\nContact et inscriptions :\n* Marie Fétiveau : 02 33 85 36 36\n* Email : marie.fetiveau@parc-naturel-perche.fr\nPlus d'informations sur le site du Parc, rubrique Actualités.
LOCATION:La Miterie, 61130 Saint-Germain-de-la-Coudre, France
ORGANIZER:Parc naturel régional du Perche et Rhizome
URL:https://www.parc-naturel-perche.fr
X-PRICE:Inconnu
CATEGORIES:formation
END:VEVENT
END:VCALENDAR