BEGIN:VCALENDAR
VERSION:2.0
PRODID:-//Agenda du Perche//Agenda du Perche//FR
CALSCALE:GREGORIAN
METHOD:PUBLISH
X-WR-CALNAME:Agenda du Perche
X-WR-DESC:Événements du territoire du Perche
X-WR-TIMEZONE:Europe/Paris
BEGIN:VEVENT
UID:1119@agendaperche
DTSTAMP:20260419T143804
DTSTART:20260812T143000
DTEND:20260812T173000
SUMMARY:S'initier au croquis botanique
DESCRIPTION:Plus d'infos : https://www.agendaduperche.fr/events/s-initier-au-croquis-botanique-atelier\n\nAtelier famille. À partir des éléments végétaux qui nous entourent, nous nous amuserons à réaliser des croquis, afin de mieux découvrir, comprendre et admirer. Des informations techniques et botaniques seront apportées. Suivant la météo, l'activité se déroule en plein air ou en intérieur.\nInformations pratiques :\n* Public : Tout public, enfant à partir de 7 ans (accompagné d'un adulte)\n* Réservation obligatoire jusqu'à 12h30 la veille au 02 33 25 70 10
LOCATION:Maison du Parc, Courboyer, 61340 Perche en Nocé, France
ORGANIZER:Parc naturel régional du Perche et Evelyne Moinet
X-PRICE:5€
CATEGORIES:atelier
END:VEVENT
END:VCALENDAR