BEGIN:VCALENDAR
VERSION:2.0
PRODID:-//Agenda du Perche//Agenda du Perche//FR
CALSCALE:GREGORIAN
METHOD:PUBLISH
X-WR-CALNAME:Agenda du Perche
X-WR-DESC:Événements du territoire du Perche
X-WR-TIMEZONE:Europe/Paris
BEGIN:VEVENT
UID:1114@agendaperche
DTSTAMP:20260419T143926
DTSTART:20260806T143000
DTEND:20260806T163000
SUMMARY:Reconnaître les arbres par les feuilles
DESCRIPTION:Plus d'infos : https://www.agendaduperche.fr/events/reconnaitre-les-arbres-par-les-feuilles-atelier\n\nUn atelier famille pour apprendre à identifier les arbres du domaine de Courboyer par l'observation de leurs feuilles.\nAu programme :\n* Recherche active et ludique du nom des arbres par étape.\n* Activité en extérieur (ou intérieur selon la météo).\nInformations pratiques :\n* Public : Familles (enfants dès 7 ans accompagnés d'un adulte).\n* Réservation obligatoire jusqu'à 12h30 la veille au 02 33 25 70 10.
LOCATION:Maison du Parc, Courboyer, 61340 Perche en Nocé, France
ORGANIZER:Parc naturel régional du Perche et Evelyne Moinet
X-PRICE:5€
CATEGORIES:atelier
END:VEVENT
END:VCALENDAR