BEGIN:VCALENDAR
VERSION:2.0
PRODID:-//Agenda du Perche//Agenda du Perche//FR
CALSCALE:GREGORIAN
METHOD:PUBLISH
X-WR-CALNAME:Agenda du Perche
X-WR-DESC:Événements du territoire du Perche
X-WR-TIMEZONE:Europe/Paris
BEGIN:VEVENT
UID:1137@agendaperche
DTSTAMP:20260419T172506
DTSTART:20261021T143000
DTEND:20261021T173000
SUMMARY:Réalisation d’un herbier d'argile
DESCRIPTION:Plus d'infos : https://www.agendaduperche.fr/events/realisation-d-un-herbier-d-argile-atelier\n\nAtelier famille. Balade pédestre pour petits et grands, avec observation et cueillette des plantes, suivie d'un atelier pour réaliser un herbier d'argile avec les empreintes des plantes récoltées.\nInfos pratiques :\n* Âge minimum : 7 ans (accompagné d'un adulte).\n* Réservation obligatoire jusqu’à 12h30 la veille au 02 33 25 70 10.
LOCATION:Courboyer - Nocé, Parc naturel régional du Perche, 61340 en, France
ORGANIZER:Parc naturel régional du Perche et Bourrache et coquelicot
X-PRICE:5€
CATEGORIES:atelier
END:VEVENT
END:VCALENDAR