BEGIN:VCALENDAR
VERSION:2.0
PRODID:-//Agenda du Perche//Agenda du Perche//FR
CALSCALE:GREGORIAN
METHOD:PUBLISH
X-WR-CALNAME:Agenda du Perche
X-WR-DESC:Événements du territoire du Perche
X-WR-TIMEZONE:Europe/Paris
BEGIN:VEVENT
UID:1141@agendaperche
DTSTAMP:20260419T172628
DTSTART:20261030T150000
DTEND:20261030T190000
SUMMARY:« Peur sur le Perche » et « Aventures et créatures »
DESCRIPTION:Plus d'infos : https://www.agendaduperche.fr/events/peur-sur-le-perche-et-aventures-et-creatures-theatre\n\nAnimation famille proposée par la Compagnie Le Manoir aux Histoires.\nCe spectacle comprend deux histoires faisant la part belle aux créatures fantastiques du légendaire percheron, ainsi qu'une mini chasse au trésor sur la même thématique favorisant l'esprit ludique et les interactions avec le public. Chaque participant sera récompensé à l'issue de l'aventure par une pochette de bonbons.\nIl s'agit d'un spectacle musical avec un accompagnement au luth-guitare et au tambourin, joué en duo (conteuse et musicien) et en costume médiéval.\nInformations pratiques :\n* Deux séances au choix : de 15h à 16h30 ou de 17h30 à 19h\n* Tarifs : 6€ pour les plus de 15 ans, 4€ pour les 5-15 ans, et gratuit pour les moins de 5 ans\n* Réservation obligatoire jusqu'à 12h la veille au 02 33 25 70 10.
LOCATION:Maison du Parc, Courboyer, 61340 Perche en Nocé, France
ORGANIZER:Parc naturel régional du Perche
X-PRICE:6€
CATEGORIES:theatre
END:VEVENT
END:VCALENDAR