BEGIN:VCALENDAR
VERSION:2.0
PRODID:-//Agenda du Perche//Agenda du Perche//FR
CALSCALE:GREGORIAN
METHOD:PUBLISH
X-WR-CALNAME:Agenda du Perche
X-WR-DESC:Événements du territoire du Perche
X-WR-TIMEZONE:Europe/Paris
BEGIN:VEVENT
UID:1129@agendaperche
DTSTAMP:20260419T143922
DTSTART:20260822T143000
DTEND:20260822T170000
SUMMARY:Les samedis de l'Histoire de Capriole
DESCRIPTION:Plus d'infos : https://www.agendaduperche.fr/events/les-samedis-de-l-histoire-de-capriole-theatre\n\nVisite guidée thématique : « Les secrets de l’apothicaire ».\nSuivez l'apothicaire pour découvrir les pratiques d’hygiène et de santé à la Renaissance. Entre savoirs savants et croyances tenaces, les poisons, potions et remèdes « miracles » n’auront bientôt plus de secrets pour vous.\nInformations pratiques :\n* Horaires : Deux séances (14h30-15h30 et 16h-17h)\n* Organisateur : Parc naturel régional du Perche\n* Réservation : Obligatoire jusqu’à 12h30 la veille au 02 33 25 70 10
LOCATION:Maison du Parc, Courboyer, 61340 Perche en Nocé, France
ORGANIZER:Parc naturel régional du Perche
X-PRICE:6€
CATEGORIES:theatre
END:VEVENT
END:VCALENDAR