BEGIN:VCALENDAR
VERSION:2.0
PRODID:-//Agenda du Perche//Agenda du Perche//FR
CALSCALE:GREGORIAN
METHOD:PUBLISH
X-WR-CALNAME:Agenda du Perche
X-WR-DESC:Événements du territoire du Perche
X-WR-TIMEZONE:Europe/Paris
BEGIN:VEVENT
UID:1118@agendaperche
DTSTAMP:20260419T144042
DTSTART:20260808T143000
DTEND:20260808T163000
SUMMARY:Les samedis de l'Histoire de Capriole
DESCRIPTION:Plus d'infos : https://www.agendaduperche.fr/events/les-samedis-de-l-histoire-de-capriole-atelier-9b8a4d54-3896-4dad-9c26-abbbbc2d6976\n\nAtelier famille : À la table de la Renaissance.\nMettez les mains à la pâte et les papilles en éveil ! Cet atelier vous invite à explorer les goûts et les saveurs du XVIe siècle et à réaliser des recettes alors en vogue. Une immersion gourmande pour découvrir ce que l’on mangeait, comment on le préparait... et ce que cela racontait de la société de l’époque.\nInformations pratiques :\n* Tarifs : 6€ (+ de 15 ans), 4€ (5-15 ans), gratuit (- de 5 ans).\n* Réservation obligatoire jusqu’à 12h30 la veille au 02 33 25 70 10.
LOCATION:Courboyer - Nocé, Parc naturel régional du Perche, 61340 en, France
ORGANIZER:Parc naturel régional du Perche
X-PRICE:6€
CATEGORIES:atelier
END:VEVENT
END:VCALENDAR