BEGIN:VCALENDAR
VERSION:2.0
PRODID:-//Agenda du Perche//Agenda du Perche//FR
CALSCALE:GREGORIAN
METHOD:PUBLISH
X-WR-CALNAME:Agenda du Perche
X-WR-DESC:Événements du territoire du Perche
X-WR-TIMEZONE:Europe/Paris
BEGIN:VEVENT
UID:1143@agendaperche
DTSTAMP:20260419T172427
DTSTART:20261204T093000
DTEND:20261204T170000
SUMMARY:Initiation au plessage
DESCRIPTION:Plus d'infos : https://www.agendaduperche.fr/events/initiation-au-plessage-atelier\n\nAtelier participatif animé par Franck Viel pour découvrir le principe du plessage et du plessis, l'art d'entrelacer des végétaux vivants et morts (saule, branches issues de taille de haies...).\nGrâce à diverses réalisations créées in-situ, vous apprendrez des techniques que vous pourrez ensuite reproduire dans votre propre jardin.\nInformations pratiques :\n* Horaires : 9h30-17h00\n* Réservation obligatoire jusqu'à 12h30 la veille au 02 33 25 70 10\n* Prévoir une tenue adaptée pour le travail en extérieur, de bonnes chaussures et un pique-nique.
LOCATION:Maison du Parc, Courboyer, 61340 Perche en Nocé, France
ORGANIZER:Parc naturel régional du Perche et association Passages
URL:https://www.parc-naturel-perche.fr/le-parc-en-action/agir-ensemble/culture
X-PRICE:10€
CATEGORIES:atelier
END:VEVENT
END:VCALENDAR