BEGIN:VCALENDAR
VERSION:2.0
PRODID:-//Agenda du Perche//Agenda du Perche//FR
CALSCALE:GREGORIAN
METHOD:PUBLISH
X-WR-CALNAME:Agenda du Perche
X-WR-DESC:Événements du territoire du Perche
X-WR-TIMEZONE:Europe/Paris
BEGIN:VEVENT
UID:1140@agendaperche
DTSTAMP:20260419T172646
DTSTART:20261028T143000
DTEND:20261028T173000
SUMMARY:Fabrication d'une mangeoire en osier
DESCRIPTION:Plus d'infos : https://www.agendaduperche.fr/events/fabrication-d-une-mangeoire-en-osier-atelier\n\nAtelier famille. Un atelier de découverte du tissage des végétaux et de la vannerie pour réaliser une mangeoire que chacun pourra ensuite installer dans son jardin ou sur son balcon.\nInformations pratiques :\n* Organisé par le Parc naturel régional du Perche et la Vannerie du Petit Bois\n* Réservation obligatoire jusqu'à 12h30 la veille au 02 33 25 70 10\n* Public : dès 7 ans (accompagné d'un adulte)
LOCATION:Maison du Parc, Courboyer, 61340 Perche en Nocé, France
ORGANIZER:Parc naturel régional du Perche et la Vannerie du Petit Bois
X-PRICE:5€
CATEGORIES:atelier
END:VEVENT
END:VCALENDAR