BEGIN:VCALENDAR
VERSION:2.0
PRODID:-//Agenda du Perche//Agenda du Perche//FR
CALSCALE:GREGORIAN
METHOD:PUBLISH
X-WR-CALNAME:Agenda du Perche
X-WR-DESC:Événements du territoire du Perche
X-WR-TIMEZONE:Europe/Paris
BEGIN:VEVENT
UID:1125@agendaperche
DTSTAMP:20260419T143957
DTSTART:20260819T143000
DTEND:20260819T170000
SUMMARY:Fabrication d'un refuge à insectes
DESCRIPTION:Plus d'infos : https://www.agendaduperche.fr/events/fabrication-d-un-refuge-a-insectes-atelier-8f468522-6bfd-4e41-8961-4fd81ec3bdbd\n\nAtelier famille. À certains moments du jour ou de l'année, les insectes ont besoin d'un refuge. Au cours de cet après-midi bricolage, nous apprendrons comment réaliser des abris destinés aux insectes. Chaque groupe familial repartira avec l'abri qu'il aura construit et plein d'idées pour en construire d'autres à la maison.\nInformations pratiques :\n* Réservation obligatoire jusqu'à 12h30 la veille au 02 33 25 70 10\n* Âge minimum : 6 ans accompagné d'un adulte
LOCATION:Maison du Parc, Courboyer, 61340 Perche en Nocé, France
ORGANIZER:Parc naturel régional du Perche et AFFO
X-PRICE:Gratuit
CATEGORIES:atelier
END:VEVENT
END:VCALENDAR