BEGIN:VCALENDAR
VERSION:2.0
PRODID:-//Agenda du Perche//Agenda du Perche//FR
CALSCALE:GREGORIAN
METHOD:PUBLISH
X-WR-CALNAME:Agenda du Perche
X-WR-DESC:Événements du territoire du Perche
X-WR-TIMEZONE:Europe/Paris
BEGIN:VEVENT
UID:1112@agendaperche
DTSTAMP:20260419T143926
DTSTART:20260805T143000
DTEND:20260805T170000
SUMMARY:Empreintes végétales en positif et négatif
DESCRIPTION:Plus d'infos : https://www.agendaduperche.fr/events/empreintes-vegetales-en-positif-et-negatif-atelier\n\nAtelier famille consacré à la réalisation d'empreintes de feuilles sur un carré de tissu en coton.\nAu programme :\n* Utilisation d'une recette médiévale d'encre au fer à base de tanin.\n* Création artistique sur textile.\nInformations pratiques :\n* Public : Familles (enfants dès 7 ans accompagnés d'un adulte).\n* Réservation obligatoire jusqu'à 12h30 la veille au 02 33 25 70 10.
LOCATION:Maison du Parc, Courboyer, 61340 Perche en Nocé, France
ORGANIZER:Parc naturel régional du Perche et Elisabeth Dumont
X-PRICE:5€
CATEGORIES:atelier
END:VEVENT
END:VCALENDAR