BEGIN:VCALENDAR
VERSION:2.0
PRODID:-//Agenda du Perche//Agenda du Perche//FR
CALSCALE:GREGORIAN
METHOD:PUBLISH
X-WR-CALNAME:Agenda du Perche
X-WR-DESC:Événements du territoire du Perche
X-WR-TIMEZONE:Europe/Paris
BEGIN:VEVENT
UID:1139@agendaperche
DTSTAMP:20260419T172529
DTSTART:20261023T160000
DTEND:20261023T183000
SUMMARY:Cormier et agroforesterie
DESCRIPTION:Plus d'infos : https://www.agendaduperche.fr/events/cormier-et-agroforesterie-conference\n\nCauserie et visite. Véritable allié pour s’adapter au changement climatique, le cormier fait l'objet d'un programme de recherche national. Une centaine de spécimens ont été plantés sur le domaine de la Maison du Parc.\nTrait d'union entre patrimoine local et avenir, venez découvrir cette essence aux côtés de curieux et passionnés du cormier.\nInformations pratiques :\n* Organisé par le Parc naturel régional du Perche et l’association Cormier\n* Réservation obligatoire jusqu'à 12h30 la veille au 02 33 25 70 10
LOCATION:Maison du Parc, Courboyer, 61340 Perche en Nocé, France
ORGANIZER:Parc naturel régional du Perche et l’association Cormier
X-PRICE:Gratuit
CATEGORIES:conference
END:VEVENT
END:VCALENDAR