BEGIN:VCALENDAR
VERSION:2.0
PRODID:-//Agenda du Perche//Agenda du Perche//FR
CALSCALE:GREGORIAN
METHOD:PUBLISH
X-WR-CALNAME:Agenda du Perche
X-WR-DESC:Événements du territoire du Perche
X-WR-TIMEZONE:Europe/Paris
BEGIN:VEVENT
UID:905@agendaperche
DTSTAMP:20260419T221259
DTSTART:20260402T190000
DTEND:20260402T210000
SUMMARY:Conférence : Sensibilisation au don d’organes par Didier Lagrange
DESCRIPTION:Plus d'infos : https://www.agendaduperche.fr/events/conference-sensibilisation-au-don-d-organes-par-didier-lagrange-conference-la-loupe\n\nDidier Lagrange animera une conférence de sensibilisation au don d’organes, en partenariat avec France ADOT.\nAu programme :\n* Comprendre le don d’organes\n* Échanger et poser ses questions\n* Mieux informer autour de nous\nInformations pratiques :\n* Lieu : Château de La Loupe, 1er étage à droite.\n* Les adhérentes de La Bulle des Indé peuvent inviter 1 ou 2 entrepreneures pour leur faire découvrir l'association et partager cette soirée.\nPost Instagram de @labulledesinde
LOCATION:Place Vauban, 28240 La Loupe, France
ORGANIZER:La Bulle des Indé’ et France ADOT
URL:https://www.instagram.com/p/DV0z0fsik12/
X-PRICE:Inconnu
CATEGORIES:conference
END:VEVENT
END:VCALENDAR