BEGIN:VCALENDAR
VERSION:2.0
PRODID:-//Agenda du Perche//Agenda du Perche//FR
CALSCALE:GREGORIAN
METHOD:PUBLISH
X-WR-CALNAME:Agenda du Perche
X-WR-DESC:Événements du territoire du Perche
X-WR-TIMEZONE:Europe/Paris
BEGIN:VEVENT
UID:1368@agendaperche
DTSTAMP:20260419T143643
DTSTART:20260808T190000
DTEND:20260808T235900
SUMMARY:Soirée Techno
DESCRIPTION:Plus d'infos : https://www.agendaduperche.fr/events/2026-08-08-soiree-techno\n\nNos DJs locaux reviennent avec encore plus de son !\nÉvénement organisé dans le cadre de la saison 2026 du Café de La Chapelle.
LOCATION:Pl. Mgr Buguet, 61400 La Chapelle-Montligeon, France
ORGANIZER:Café de La Chapelle
X-PRICE:Inconnu
CATEGORIES:concert
END:VEVENT
END:VCALENDAR