BEGIN:VCALENDAR
VERSION:2.0
PRODID:-//Agenda du Perche//Agenda du Perche//FR
CALSCALE:GREGORIAN
METHOD:PUBLISH
X-WR-CALNAME:Agenda du Perche
X-WR-DESC:Événements du territoire du Perche
X-WR-TIMEZONE:Europe/Paris
BEGIN:VEVENT
UID:1376@agendaperche
DTSTAMP:20260419T143759
DTSTART:20260807T190000
DTEND:20260808T000000
SUMMARY:Faut pas mollir !
DESCRIPTION:Plus d'infos : https://www.agendaduperche.fr/events/2026-08-07-faut-pas-mollir\n\nSoirée Bal Folk avec le groupe "Faut pas mollir !" pour clôturer la saison des Baz'estivales 2026.\nInfos pratiques :\n* Restauration sur place\n* Horaires : 19h00 - 00h00
LOCATION:1 impasse de la lagune, 28400 Arcisses, France
ORGANIZER:La Baz' Microbrasserie
URL:https://www.instagram.com/p/DW9SkkcjW3G/
X-PRICE:Inconnu
CATEGORIES:concert
END:VEVENT
END:VCALENDAR