BEGIN:VCALENDAR
VERSION:2.0
PRODID:-//Agenda du Perche//Agenda du Perche//FR
CALSCALE:GREGORIAN
METHOD:PUBLISH
X-WR-CALNAME:Agenda du Perche
X-WR-DESC:Événements du territoire du Perche
X-WR-TIMEZONE:Europe/Paris
BEGIN:VEVENT
UID:1367@agendaperche
DTSTAMP:20260419T143402
DTSTART:20260725T180000
DTEND:20260725T235900
SUMMARY:10 ans de la brasserie La Vertueuse
DESCRIPTION:Plus d'infos : https://www.agendaduperche.fr/events/2026-07-25-10-ans-de-la-brasserie-la-vertueuse\n\nSoirée anniversaire des 10 ans de la brasserie locale.\nÉvénement organisé dans le cadre de la saison 2026 du Café de La Chapelle.
LOCATION:61400 La Chapelle-Montligeon, France
ORGANIZER:Café de La Chapelle
X-PRICE:Inconnu
CATEGORIES:gastronomie
END:VEVENT
END:VCALENDAR