BEGIN:VCALENDAR
VERSION:2.0
PRODID:-//Agenda du Perche//Agenda du Perche//FR
CALSCALE:GREGORIAN
METHOD:PUBLISH
X-WR-CALNAME:Agenda du Perche
X-WR-DESC:Événements du territoire du Perche
X-WR-TIMEZONE:Europe/Paris
BEGIN:VEVENT
UID:1366@agendaperche
DTSTAMP:20260419T141346
DTSTART:20260710T200000
DTEND:20260710T223000
SUMMARY:Duo JLT
DESCRIPTION:Plus d'infos : https://www.agendaduperche.fr/events/2026-07-10-duo-jlt\n\nDuo électro-acoustique aux multiples influences musicales.\nÉvénement organisé dans le cadre de la saison 2026 du Café de La Chapelle.
LOCATION:61400 La Chapelle-Montligeon, France
ORGANIZER:Café de La Chapelle
X-PRICE:Inconnu
CATEGORIES:concert
END:VEVENT
END:VCALENDAR