BEGIN:VCALENDAR
VERSION:2.0
PRODID:-//Agenda du Perche//Agenda du Perche//FR
CALSCALE:GREGORIAN
METHOD:PUBLISH
X-WR-CALNAME:Agenda du Perche
X-WR-DESC:Événements du territoire du Perche
X-WR-TIMEZONE:Europe/Paris
BEGIN:VEVENT
UID:1445@agendaperche
DTSTAMP:20260423T133753
DTSTART:20260628T150000
DTEND:20260628T170000
SUMMARY:Restitution des dessins d’enfants
DESCRIPTION:Plus d'infos : https://www.agendaduperche.fr/events/2026-06-28-restitution-des-dessins-d-enfants\n\nExposition et restitution des dessins réalisés par les enfants lors de leurs visites scolaires au moulin.
LOCATION:Le Moulin de Radray, 61400 Loisail, France
ORGANIZER:Association Moulin de Radray, nature & patrimoine
X-PRICE:Inconnu
CATEGORIES:exposition
END:VEVENT
END:VCALENDAR