BEGIN:VCALENDAR
VERSION:2.0
PRODID:-//Agenda du Perche//Agenda du Perche//FR
CALSCALE:GREGORIAN
METHOD:PUBLISH
X-WR-CALNAME:Agenda du Perche
X-WR-DESC:Événements du territoire du Perche
X-WR-TIMEZONE:Europe/Paris
BEGIN:VEVENT
UID:1365@agendaperche
DTSTAMP:20260419T172610
DTSTART:20260628T120000
DTEND:20260628T150000
SUMMARY:Bénédiction des motards
DESCRIPTION:Plus d'infos : https://www.agendaduperche.fr/events/2026-06-28-benediction-des-motards\n\nRassemblement annuel des motards.\nAu programme :\n* Bénédiction le midi\n* Barbecue : saucisses, chorizo et frites bio maison\nÉvénement organisé dans le cadre de la saison 2026 du Café de La Chapelle.
LOCATION:61400 La Chapelle-Montligeon, France
ORGANIZER:Café de La Chapelle
X-PRICE:Inconnu
CATEGORIES:autre
END:VEVENT
END:VCALENDAR