BEGIN:VCALENDAR
VERSION:2.0
PRODID:-//Agenda du Perche//Agenda du Perche//FR
CALSCALE:GREGORIAN
METHOD:PUBLISH
X-WR-CALNAME:Agenda du Perche
X-WR-DESC:Événements du territoire du Perche
X-WR-TIMEZONE:Europe/Paris
BEGIN:VEVENT
UID:1444@agendaperche
DTSTAMP:20260423T132346
DTSTART:20260627T100000
DTEND:20260628T180000
SUMMARY:Visites commentées du Moulin de Radray
DESCRIPTION:Plus d'infos : https://www.agendaduperche.fr/events/2026-06-27-visites-commentees-du-moulin-de-radray\n\nÀ l'occasion des Journées du Patrimoine de Pays et des Moulins, le moulin de Radray ouvre ses portes pour des visites commentées des extérieurs et de la salle des machines.\nPlusieurs artisans du patrimoine (tailleur de pierre, menuisier) de la coopérative « Les chantiers de demain » feront la démonstration de leur art.
LOCATION:Le Moulin de Radray, 61400 Loisail, France
ORGANIZER:Association Moulin de Radray, nature & patrimoine
X-PRICE:Inconnu
CATEGORIES:visite
END:VEVENT
END:VCALENDAR