BEGIN:VCALENDAR
VERSION:2.0
PRODID:-//Agenda du Perche//Agenda du Perche//FR
CALSCALE:GREGORIAN
METHOD:PUBLISH
X-WR-CALNAME:Agenda du Perche
X-WR-DESC:Événements du territoire du Perche
X-WR-TIMEZONE:Europe/Paris
BEGIN:VEVENT
UID:1364@agendaperche
DTSTAMP:20260419T172432
DTSTART:20260627T203000
DTEND:20260627T233000
SUMMARY:Leffe or Right
DESCRIPTION:Plus d'infos : https://www.agendaduperche.fr/events/2026-06-27-leffe-or-right\n\nDu rock pour enflammer la soirée !\nÉvénement organisé dans le cadre de la saison 2026 du Café de La Chapelle.
LOCATION:Pl. Mgr Buguet, 61400 La Chapelle-Montligeon, France
ORGANIZER:Café de La Chapelle
X-PRICE:Inconnu
CATEGORIES:concert
END:VEVENT
END:VCALENDAR