BEGIN:VCALENDAR
VERSION:2.0
PRODID:-//Agenda du Perche//Agenda du Perche//FR
CALSCALE:GREGORIAN
METHOD:PUBLISH
X-WR-CALNAME:Agenda du Perche
X-WR-DESC:Événements du territoire du Perche
X-WR-TIMEZONE:Europe/Paris
BEGIN:VEVENT
UID:1392@agendaperche
DTSTAMP:20260419T172656
DTSTART:20260626T100000
DTEND:20260626T123000
SUMMARY:Soudure à l'arc : Initiation (Niveau 1)
DESCRIPTION:Plus d'infos : https://www.agendaduperche.fr/events/2026-06-26-soudure-a-l-arc-initiation-niveau-1\n\nStage réservé aux grands débutants. Apprenez à utiliser un poste à souder et une meuleuse pour la première fois. Au programme : réglage du poste et réalisation de vos premiers cordons de soudure.\nInfos pratiques :\n* Animé par Blanche\n* 4 personnes maximum\n* Matériel fourni (possibilité de venir avec son propre poste)\nInfos & réservations :\n* Inscription obligatoire avant le 24 juin 12h\n* Adhésion annuelle à l'association (5€) requise\n* Contact : laboiteaoutils28@gmail.com
LOCATION:111 Rue Bretonnerie, 28400 Nogent-le-Rotrou, France
ORGANIZER:La Boite à Outils
URL:https://lbao.fr
X-PRICE:40€
CATEGORIES:atelier
END:VEVENT
END:VCALENDAR