BEGIN:VCALENDAR
VERSION:2.0
PRODID:-//Agenda du Perche//Agenda du Perche//FR
CALSCALE:GREGORIAN
METHOD:PUBLISH
X-WR-CALNAME:Agenda du Perche
X-WR-DESC:Événements du territoire du Perche
X-WR-TIMEZONE:Europe/Paris
BEGIN:VEVENT
UID:1393@agendaperche
DTSTAMP:20260419T172526
DTSTART:20260626T140000
DTEND:20260626T163000
SUMMARY:Soudure à l'arc : Assemblages (Niveau 2)
DESCRIPTION:Plus d'infos : https://www.agendaduperche.fr/events/2026-06-26-soudure-a-l-arc-assemblages-niveau-2\n\nStage réservé à celles et ceux qui ont déjà une première expérience en soudure. Apprenez à assembler plusieurs pièces de métal ensemble, à plat puis avec différents angles.\nInfos pratiques :\n* Animé par Aurélien\n* 4 personnes maximum\n* Matériel fourni (possibilité de venir avec son propre poste)\nInfos & réservations :\n* Inscription obligatoire avant le 24 juin 12h\n* Adhésion annuelle à l'association (5€) requise\n* Contact : laboiteaoutils28@gmail.com
LOCATION:111 Rue Bretonnerie, 28400 Nogent-le-Rotrou, France
ORGANIZER:La Boite à Outils
URL:https://lbao.fr
X-PRICE:40€
CATEGORIES:atelier
END:VEVENT
END:VCALENDAR