BEGIN:VCALENDAR
VERSION:2.0
PRODID:-//Agenda du Perche//Agenda du Perche//FR
CALSCALE:GREGORIAN
METHOD:PUBLISH
X-WR-CALNAME:Agenda du Perche
X-WR-DESC:Événements du territoire du Perche
X-WR-TIMEZONE:Europe/Paris
BEGIN:VEVENT
UID:1363@agendaperche
DTSTAMP:20260419T172726
DTSTART:20260621T190000
DTEND:20260621T230000
SUMMARY:Fête de la musique
DESCRIPTION:Plus d'infos : https://www.agendaduperche.fr/events/2026-06-21-fete-de-la-musique\n\nCélébrons l'été autour d'une jam session !\nÉvénement organisé dans le cadre de la saison 2026 du Café de La Chapelle.
LOCATION:61400 La Chapelle-Montligeon, France
ORGANIZER:Café de La Chapelle
X-PRICE:Gratuit
CATEGORIES:concert
END:VEVENT
END:VCALENDAR