BEGIN:VCALENDAR
VERSION:2.0
PRODID:-//Agenda du Perche//Agenda du Perche//FR
CALSCALE:GREGORIAN
METHOD:PUBLISH
X-WR-CALNAME:Agenda du Perche
X-WR-DESC:Événements du territoire du Perche
X-WR-TIMEZONE:Europe/Paris
BEGIN:VEVENT
UID:1442@agendaperche
DTSTAMP:20260423T133429
DTSTART:20260607T150000
DTEND:20260607T170000
SUMMARY:Et si les arbres chantaient pour vous ?
DESCRIPTION:Plus d'infos : https://www.agendaduperche.fr/events/2026-06-08-et-si-les-arbres-chantaient-pour-vous\n\nSieste sonore et musicale au cœur du vivant. Une expérience immersive pour écouter le chant des arbres.\nInfos & réservations :\nInscription recommandée : contact@lemoulinderadray.fr
LOCATION:Le Moulin de Radray, 61400 Loisail, France
ORGANIZER:Association Moulin de Radray, nature & patrimoine
URL:https://openagenda.com/rdvj-2026-normandie/events/et-si-les-arbres-chantaient-pour-vous-sieste-sonore-au-coeur-du-vivant?cl=fr
X-PRICE:Inconnu
CATEGORIES:concert
END:VEVENT
END:VCALENDAR