BEGIN:VCALENDAR
VERSION:2.0
PRODID:-//Agenda du Perche//Agenda du Perche//FR
CALSCALE:GREGORIAN
METHOD:PUBLISH
X-WR-CALNAME:Agenda du Perche
X-WR-DESC:Événements du territoire du Perche
X-WR-TIMEZONE:Europe/Paris
BEGIN:VEVENT
UID:1443@agendaperche
DTSTAMP:20260423T135001
DTSTART:20260606T193000
DTEND:20260606T213000
SUMMARY:Recettes gourmandes et dégustations autour de l'arbre
DESCRIPTION:Plus d'infos : https://www.agendaduperche.fr/events/2026-06-07-recettes-gourmandes-et-degustations-autour-de-l-arbre\n\nEt si les arbres vous invitaient à table ? Découvrez des saveurs secrètes : feuilles de noyer, chatons de noisetier, bourgeons et fleurs de sous-bois. Échanges sur les recettes et dégustations.\nBuvette sur place.\nInfos & réservations :\nInscription recommandée : contact@lemoulinderadray.fr
LOCATION:Le Moulin de Radray, 61400 Loisail, France
ORGANIZER:Association Moulin de Radray, nature & patrimoine
X-PRICE:Prix libre
CATEGORIES:gastronomie
END:VEVENT
END:VCALENDAR