BEGIN:VCALENDAR
VERSION:2.0
PRODID:-//Agenda du Perche//Agenda du Perche//FR
CALSCALE:GREGORIAN
METHOD:PUBLISH
X-WR-CALNAME:Agenda du Perche
X-WR-DESC:Événements du territoire du Perche
X-WR-TIMEZONE:Europe/Paris
BEGIN:VEVENT
UID:1407@agendaperche
DTSTAMP:20260419T172753
DTSTART:20260607T110000
DTEND:20260607T183000
SUMMARY:Festival À Portée de Voix - Dimanche
DESCRIPTION:Plus d'infos : https://www.agendaduperche.fr/events/2026-06-07-festival-a-portee-de-voix-dimanche\n\nDernière journée du 11ème festival chanson À Portée de Voix.\nProgramme du jour :\n* 11h00 : Lady Do & Mr Papa - La Mifa (parc Louis-Moullin) - Spectacle à partir de 4 ans - Gratuit\n* 12h30 : Les Impromptus de M&M’S (parc Louis-Moullin) - Gratuit\n* 15h00 : Tonycello (parc Louis-Moullin) - Gratuit\n* 16h30 : Bal de circonstance (parc Louis-Moullin) - Gratuit
LOCATION:Parc Louis-Moullin, 28400 Nogent-le-Rotrou, France
ORGANIZER:Association Le Perche en Chanteurs
URL:https://www.festivalaporteedevoix.com
X-PRICE:Gratuit
CATEGORIES:festival
END:VEVENT
END:VCALENDAR