BEGIN:VCALENDAR
VERSION:2.0
PRODID:-//Agenda du Perche//Agenda du Perche//FR
CALSCALE:GREGORIAN
METHOD:PUBLISH
X-WR-CALNAME:Agenda du Perche
X-WR-DESC:Événements du territoire du Perche
X-WR-TIMEZONE:Europe/Paris
BEGIN:VEVENT
UID:1441@agendaperche
DTSTAMP:20260423T135002
DTSTART:20260606T210000
DTEND:20260606T230000
SUMMARY:Arbres en magie
DESCRIPTION:Plus d'infos : https://www.agendaduperche.fr/events/2026-06-07-arbres-en-magie\n\nSpectacle déambulatoire à la bougie à travers le parc. Une déambulation enchantée pour découvrir les arbres remarquables sous un œil différent.\nInfos & réservations :\nInscription recommandée : contact@lemoulinderadray.fr
LOCATION:Le Moulin de Radray, 61400 Loisail, France
ORGANIZER:Association Moulin de Radray, nature & patrimoine
URL:https://openagenda.com/rdvj-2026-normandie/events/arbres-en-magie-une-deambulation-en-chanteee?cl=fr
X-PRICE:Inconnu
CATEGORIES:theatre
END:VEVENT
END:VCALENDAR