BEGIN:VCALENDAR
VERSION:2.0
PRODID:-//Agenda du Perche//Agenda du Perche//FR
CALSCALE:GREGORIAN
METHOD:PUBLISH
X-WR-CALNAME:Agenda du Perche
X-WR-DESC:Événements du territoire du Perche
X-WR-TIMEZONE:Europe/Paris
BEGIN:VEVENT
UID:1406@agendaperche
DTSTAMP:20260419T172909
DTSTART:20260606T100000
DTEND:20260606T235900
SUMMARY:Festival À Portée de Voix - Samedi
DESCRIPTION:Plus d'infos : https://www.agendaduperche.fr/events/2026-06-06-festival-a-portee-de-voix-samedi\n\n4ème journée du 11ème festival chanson À Portée de Voix.\nProgramme du jour :\n* 10h00 : Ça pousse (Le ChAntier) - Spectacle à partir de 6 mois - Gratuit\n* 11h00 : Animation camion - troc (marché place St Pol) - Gratuit\n* 18h00 : Cabaret Delarozière (parc Louis-Moullin) - Gratuit\n* 19h00 : Chœur Ephémère (parc Louis-Moullin) - Gratuit\n* 19h30 : Les Impromptus de M&M’S (parc Louis-Moullin) - Gratuit\n* 21h00 : Michèle Bernard - Miettes (ChApiteau parc Louis-Moullin) - Entrée 15€/10€\n* 22h30 : After Guinguette (parc Louis-Moullin) - Entrée libre
LOCATION:Parc Louis-Moullin, 28400 Nogent-le-Rotrou, France
ORGANIZER:Association Le Perche en Chanteurs
URL:https://www.festivalaporteedevoix.com
X-PRICE:15€
CATEGORIES:festival
END:VEVENT
END:VCALENDAR