BEGIN:VCALENDAR
VERSION:2.0
PRODID:-//Agenda du Perche//Agenda du Perche//FR
CALSCALE:GREGORIAN
METHOD:PUBLISH
X-WR-CALNAME:Agenda du Perche
X-WR-DESC:Événements du territoire du Perche
X-WR-TIMEZONE:Europe/Paris
BEGIN:VEVENT
UID:1440@agendaperche
DTSTAMP:20260423T133215
DTSTART:20260606T180000
DTEND:20260606T200000
SUMMARY:De souvenirs en racines
DESCRIPTION:Plus d'infos : https://www.agendaduperche.fr/events/2026-06-06-de-souvenirs-en-racines\n\nSpectacle participatif et familial avec la Cie Theresaway.\nInfos & réservations :\nInscription recommandée : contact@lemoulinderadray.fr
LOCATION:Le Moulin de Radray, 61400 Loisail, France
ORGANIZER:Association Moulin de Radray, nature & patrimoine
URL:https://openagenda.com/rdvj-2026-normandie/events/de-souvenirs-en-racines-theatre-participatif?cl=fr
X-PRICE:Inconnu
CATEGORIES:theatre
END:VEVENT
END:VCALENDAR