BEGIN:VCALENDAR
VERSION:2.0
PRODID:-//Agenda du Perche//Agenda du Perche//FR
CALSCALE:GREGORIAN
METHOD:PUBLISH
X-WR-CALNAME:Agenda du Perche
X-WR-DESC:Événements du territoire du Perche
X-WR-TIMEZONE:Europe/Paris
BEGIN:VEVENT
UID:1439@agendaperche
DTSTAMP:20260423T133322
DTSTART:20260606T153000
DTEND:20260606T173000
SUMMARY:Atelier enfants : créer avec la nature
DESCRIPTION:Plus d'infos : https://www.agendaduperche.fr/events/2026-06-06-atelier-creatif-creer-avec-la-nature\n\nAtelier créatif pour les petits et les grands avec NadjaM, artiste plasticienne. Venez explorer votre créativité en utilisant des éléments naturels.\nInfos & réservations :\nInscription obligatoire : contact@lemoulinderadray.fr
LOCATION:Le Moulin de Radray, 61400 Loisail, France
ORGANIZER:Association Moulin de Radray, nature & patrimoine
URL:https://openagenda.com/rdvj-2026-normandie/events/atelier-enfants-creer-avec-la-nature?cl=fr
X-PRICE:Inconnu
CATEGORIES:atelier
END:VEVENT
END:VCALENDAR