BEGIN:VCALENDAR
VERSION:2.0
PRODID:-//Agenda du Perche//Agenda du Perche//FR
CALSCALE:GREGORIAN
METHOD:PUBLISH
X-WR-CALNAME:Agenda du Perche
X-WR-DESC:Événements du territoire du Perche
X-WR-TIMEZONE:Europe/Paris
BEGIN:VEVENT
UID:1438@agendaperche
DTSTAMP:20260423T134259
DTSTART:20260605T210000
DTEND:20260605T230000
SUMMARY:Voir l’arbre autrement : lecture sous les étoiles
DESCRIPTION:Plus d'infos : https://www.agendaduperche.fr/events/2026-06-05-voir-l-arbre-autrement-lecture-sous-les-etoiles\n\nLecture sous les étoiles de « L'Arbre-Monde » avec la Cie Ekphrasis. Prévoyez un plaid et un coussin pour votre confort.\nInfos & réservations :\nInscription recommandée : contact@lemoulinderadray.fr
LOCATION:Le Moulin de Radray, 61400 Loisail, France
ORGANIZER:Association Moulin de Radray, nature & patrimoine
URL:https://openagenda.com/rdvj-2026-normandie/events/voir-larbre-autrement-lecture-sous-les-etoiles-de-larbre-monde?cl=fr
X-PRICE:Participation libre
CATEGORIES:conference
END:VEVENT
END:VCALENDAR