BEGIN:VCALENDAR
VERSION:2.0
PRODID:-//Agenda du Perche//Agenda du Perche//FR
CALSCALE:GREGORIAN
METHOD:PUBLISH
X-WR-CALNAME:Agenda du Perche
X-WR-DESC:Événements du territoire du Perche
X-WR-TIMEZONE:Europe/Paris
BEGIN:VEVENT
UID:1437@agendaperche
DTSTAMP:20260423T134411
DTSTART:20260605T190000
DTEND:20260605T210000
SUMMARY:Les murmures de l’arbre
DESCRIPTION:Plus d'infos : https://www.agendaduperche.fr/events/2026-06-05-les-murmures-de-l-arbre\n\nSpectacle musical dans le cadre du Festival de l'Arbre (Rendez-vous aux Jardins). Une immersion sonore et poétique.\nInfos & réservations :\nInscription recommandée : contact@lemoulinderadray.fr
LOCATION:Le Moulin de Radray, 61400 Loisail, France
ORGANIZER:Association Moulin de Radray, nature & patrimoine
URL:https://openagenda.com/rdvj-2026-normandie/events/spectacle-musical-les-murmures-de-larbre?cl=fr
X-PRICE:Participation libre
CATEGORIES:concert
END:VEVENT
END:VCALENDAR