BEGIN:VCALENDAR
VERSION:2.0
PRODID:-//Agenda du Perche//Agenda du Perche//FR
CALSCALE:GREGORIAN
METHOD:PUBLISH
X-WR-CALNAME:Agenda du Perche
X-WR-DESC:Événements du territoire du Perche
X-WR-TIMEZONE:Europe/Paris
BEGIN:VEVENT
UID:1405@agendaperche
DTSTAMP:20260419T172828
DTSTART:20260605T190000
DTEND:20260605T235900
SUMMARY:Festival À Portée de Voix - Vendredi
DESCRIPTION:Plus d'infos : https://www.agendaduperche.fr/events/2026-06-05-festival-a-portee-de-voix-vendredi\n\n3ème journée du 11ème festival chanson À Portée de Voix.\nProgramme du jour :\n* 19h00 : Les Impromptus de M&M’S (parc Louis-Moullin) - Gratuit\n* 21h00 : Syrano (ChApiteau parc Louis-Moullin) - Entrée 15€/10€\n* 22h30 : After Guinguette (parc Louis-Moullin) - Entrée libre
LOCATION:Parc Louis-Moullin, 28400 Nogent-le-Rotrou, France
ORGANIZER:Association Le Perche en Chanteurs
URL:https://www.festivalaporteedevoix.com
X-PRICE:15€
CATEGORIES:festival
END:VEVENT
END:VCALENDAR