BEGIN:VCALENDAR
VERSION:2.0
PRODID:-//Agenda du Perche//Agenda du Perche//FR
CALSCALE:GREGORIAN
METHOD:PUBLISH
X-WR-CALNAME:Agenda du Perche
X-WR-DESC:Événements du territoire du Perche
X-WR-TIMEZONE:Europe/Paris
BEGIN:VEVENT
UID:1404@agendaperche
DTSTAMP:20260419T172828
DTSTART:20260604T120000
DTEND:20260604T150000
SUMMARY:Festival À Portée de Voix - Jeudi
DESCRIPTION:Plus d'infos : https://www.agendaduperche.fr/events/2026-06-04-festival-a-portee-de-voix-jeudi\n\n2ème journée du 11ème festival chanson À Portée de Voix.\nProgramme du jour :\n* 12h00 : Déjeuner & Spectacle Victoria Delarozière (guinguette parc Louis-Moullin)\nInfos & réservations :\nFormule à 25€, sur inscription au 02 37 53 03 93 ou par mail.
LOCATION:Parc Louis-Moullin, 28400 Nogent-le-Rotrou, France
ORGANIZER:Association Le Perche en Chanteurs
URL:https://www.festivalaporteedevoix.com
X-PRICE:25€
CATEGORIES:festival
END:VEVENT
END:VCALENDAR