BEGIN:VCALENDAR
VERSION:2.0
PRODID:-//Agenda du Perche//Agenda du Perche//FR
CALSCALE:GREGORIAN
METHOD:PUBLISH
X-WR-CALNAME:Agenda du Perche
X-WR-DESC:Événements du territoire du Perche
X-WR-TIMEZONE:Europe/Paris
BEGIN:VEVENT
UID:1403@agendaperche
DTSTAMP:20260419T172910
DTSTART:20260603T180000
DTEND:20260603T200000
SUMMARY:Festival À Portée de Voix - Mercredi
DESCRIPTION:Plus d'infos : https://www.agendaduperche.fr/events/2026-06-03-festival-a-portee-de-voix-mercredi\n\nOuverture du 11ème festival chanson À Portée de Voix.\nProgramme du jour :\n* 18h00 : Troc de Chansons (rue du Val, sous chapiteau) - Gratuit
LOCATION:Rue du Val, 28400 Nogent-le-Rotrou, France
ORGANIZER:Association Le Perche en Chanteurs
URL:https://www.festivalaporteedevoix.com
X-PRICE:Gratuit
CATEGORIES:festival
END:VEVENT
END:VCALENDAR