BEGIN:VCALENDAR
VERSION:2.0
PRODID:-//Agenda du Perche//Agenda du Perche//FR
CALSCALE:GREGORIAN
METHOD:PUBLISH
X-WR-CALNAME:Agenda du Perche
X-WR-DESC:Événements du territoire du Perche
X-WR-TIMEZONE:Europe/Paris
BEGIN:VEVENT
UID:1341@agendaperche
DTSTAMP:20260419T172728
DTSTART:20260531T140000
DTEND:20260531T170000
SUMMARY:Tournoi d'échecs : La simultanée avec un maître
DESCRIPTION:Plus d'infos : https://www.agendaduperche.fr/events/2026-05-31-tournoi-d-echecs-la-simultanee-avec-un-maitre\n\nAvis aux amateurs d'échecs ! Relevez le défi et venez affronter un maître d'échecs lors d'une partie simultanée exceptionnelle. Cette animation est organisée par le club Chartres Échecs dans le cadre du festival Si on jouait à La Loupe. Infos & réservations : www.sionjouait.fr
LOCATION:28240 La Loupe, France
ORGANIZER:Chartres Échecs
URL:https://www.sionjouait.fr
X-PRICE:Gratuit
CATEGORIES:atelier
END:VEVENT
END:VCALENDAR