BEGIN:VCALENDAR
VERSION:2.0
PRODID:-//Agenda du Perche//Agenda du Perche//FR
CALSCALE:GREGORIAN
METHOD:PUBLISH
X-WR-CALNAME:Agenda du Perche
X-WR-DESC:Événements du territoire du Perche
X-WR-TIMEZONE:Europe/Paris
BEGIN:VEVENT
UID:1357@agendaperche
DTSTAMP:20260419T155329
DTSTART:20260531T110000
DTEND:20260531T153000
SUMMARY:Les histoires presque vraies de La Loupe
DESCRIPTION:Plus d'infos : https://www.agendaduperche.fr/events/2026-05-31-les-histoires-presque-vraies-de-la-loupe\n\nDécouvrez La Loupe à travers des récits théâtralisés et ludiques lors de cette visite intitulée « Les histoires presque vraies de La Loupe ». Animation proposée dans le cadre du festival « Si On Jouait ».\nHoraires des séances :\n* Dimanche à 11h00\n* Dimanche à 14h30\nInfos & réservations :\nInscription fortement recommandée sur www.sionjouait.fr ou via le QR code présent sur l'affiche.
LOCATION:La, 1 Place Vauban, 28240 La Loupe, France
ORGANIZER:Comité des Fêtes de La Loupe
URL:https://www.sionjouait.fr
X-PRICE:Gratuit
CATEGORIES:visite
END:VEVENT
END:VCALENDAR