BEGIN:VCALENDAR
VERSION:2.0
PRODID:-//Agenda du Perche//Agenda du Perche//FR
CALSCALE:GREGORIAN
METHOD:PUBLISH
X-WR-CALNAME:Agenda du Perche
X-WR-DESC:Événements du territoire du Perche
X-WR-TIMEZONE:Europe/Paris
BEGIN:VEVENT
UID:1402@agendaperche
DTSTAMP:20260419T172917
DTSTART:20260531T100000
DTEND:20260531T170000
SUMMARY:Festival À Portée de Voix - Prélude (Stage) - Session 2
DESCRIPTION:Plus d'infos : https://www.agendaduperche.fr/events/2026-05-31-festival-a-portee-de-voix-prelude-stage-session-2\n\nDans le cadre du festival À Portée de Voix, un stage est proposé pour venir chanter trois chansons de Michèle Bernard dans le Chœur Éphémère.\nProgramme :\n* Sous la conduite de Irene Doria & Marie-Laure Thébault\n* Apprentissage de trois chansons de Michèle Bernard\nInfos & réservations :\nInscription par mail : festivalaporteedevoix@orange.fr
LOCATION:28400 Nogent-le-Rotrou, France
ORGANIZER:Association Le Perche en Chanteurs
URL:https://www.festivalaporteedevoix.com
X-PRICE:Inconnu
CATEGORIES:formation
END:VEVENT
END:VCALENDAR