BEGIN:VCALENDAR
VERSION:2.0
PRODID:-//Agenda du Perche//Agenda du Perche//FR
CALSCALE:GREGORIAN
METHOD:PUBLISH
X-WR-CALNAME:Agenda du Perche
X-WR-DESC:Événements du territoire du Perche
X-WR-TIMEZONE:Europe/Paris
BEGIN:VEVENT
UID:1338@agendaperche
DTSTAMP:20260419T172727
DTSTART:20260530T100000
DTEND:20260531T180000
SUMMARY:Si on jouait à La Loupe
DESCRIPTION:Plus d'infos : https://www.agendaduperche.fr/events/2026-05-30-si-on-jouait-a-la-loupe\n\nLe festival « Si on jouait à La Loupe » revient pour une édition riche en découvertes et en divertissements ! Organisé par la Ville de La Loupe en collaboration avec l'Asso FESTIVAL, cet événement festif et convivial s'installe pendant deux jours pour transformer le gymnase, le parc et le château en un immense terrain de jeu pour tous les âges.\nAu programme :\nAnimations intérieures : Loup-Garou, ateliers Lego et Duplo (avec stop-motion), babyfoot, Blazpod, bornes d'arcade, bornes de fléchettes, jeux géants, jeux de plateaux, jeux de société, murder party, mur interactif et tournois (Azul, Échecs, Heat, Skyjo).\nEscape Game thématique : Plongez dans l'histoire locale avec l'expérience immersive « La Résistance en 1944 ! » située au cœur du château.\nAnimations extérieures : Accro-voile, animations sportives (Cornhole, Panna, Tchoukball, discogolf), rugby Deboul’tout, biathlon, circuit de karting à pédales, jeux traditionnels, jeux en bois, Learn'O et parcours accro-baby.\nDéfi exceptionnel : Venez vous mesurer à Ludovic Misura, vice-champion du monde de Mölkky ! Un défi sportif et convivial ouvert à tous dans le parc du château.\nAnimation spéciale (samedi uniquement) : Venez parcourir un plateau de jeu de l'oie à taille humaine !\nEspace créateurs : Découvrez de nouveaux jeux et votez pour votre coup de cœur.\nEspace jeunes : Espace bébé et jeux de mise en scène pour les plus petits.\nRestauration disponible sur place.\nInfos & réservations :\nwww.sionjouait.fr
LOCATION:Place Vauban, 28240 La Loupe, France
ORGANIZER:Ville de La Loupe & Asso FESTIVAL
URL:https://www.sionjouait.fr
X-PRICE:Gratuit
CATEGORIES:festival
END:VEVENT
END:VCALENDAR