BEGIN:VCALENDAR
VERSION:2.0
PRODID:-//Agenda du Perche//Agenda du Perche//FR
CALSCALE:GREGORIAN
METHOD:PUBLISH
X-WR-CALNAME:Agenda du Perche
X-WR-DESC:Événements du territoire du Perche
X-WR-TIMEZONE:Europe/Paris
BEGIN:VEVENT
UID:1354@agendaperche
DTSTAMP:20260419T172431
DTSTART:20260530T100000
DTEND:20260531T180000
SUMMARY:Midnight Garage
DESCRIPTION:Plus d'infos : https://www.agendaduperche.fr/events/2026-05-30-midnight-le-perche\n\nUn événement dédié à la passion mécanique, à la musique et à la gastronomie au cœur du Perche.\nAu programme :\n* Exposition de moteurs et belles mécaniques (Auto & Moto)\n* Musique et ambiance festive pour une nuit hors du temps\n* Restauration sur place (Good food)\n* Balades et esprit communautaire (Good rides & vibes)\nÉvénement organisé en collaboration avec Midnight Garage et 4h10.
LOCATION:moulin de Brotz, Chateau de Miserai, 61290 L'Hôme-Chamondot, France
ORGANIZER:Brasserie du Perche
URL:https://www.instagram.com/p/DXEUhfuKB9k/
X-PRICE:Gratuit
CATEGORIES:festival
END:VEVENT
END:VCALENDAR