BEGIN:VCALENDAR
VERSION:2.0
PRODID:-//Agenda du Perche//Agenda du Perche//FR
CALSCALE:GREGORIAN
METHOD:PUBLISH
X-WR-CALNAME:Agenda du Perche
X-WR-DESC:Événements du territoire du Perche
X-WR-TIMEZONE:Europe/Paris
BEGIN:VEVENT
UID:1424@agendaperche
DTSTAMP:20260419T172726
DTSTART:20260530T200000
DTEND:20260530T233000
SUMMARY:La Balise du Perche à l'Arsenal
DESCRIPTION:Plus d'infos : https://www.agendaduperche.fr/events/2026-05-30-la-balise-du-perche-a-l-arsenal\n\nLa Balise du Perche vous propose un plateau éclectique pour une soirée musicale à l'Arsenal.\nAu programme :\n* Arnaud Delande : Chanson rock\n* BAM ! : Blues rock\n* Outremesure feat. Matt2 : Hip hop\nSur place :\n* Buvette avec la bière locale de La Baz\n* Petite restauration (sandwiches)
LOCATION:8 Pl. de Sully, 28400 Nogent-le-Rotrou, France
ORGANIZER:La Balise du Perche
URL:https://www.instagram.com/p/DXRs1CUlmOv/
X-PRICE:Gratuit
CATEGORIES:concert
END:VEVENT
END:VCALENDAR