BEGIN:VCALENDAR
VERSION:2.0
PRODID:-//Agenda du Perche//Agenda du Perche//FR
CALSCALE:GREGORIAN
METHOD:PUBLISH
X-WR-CALNAME:Agenda du Perche
X-WR-DESC:Événements du territoire du Perche
X-WR-TIMEZONE:Europe/Paris
BEGIN:VEVENT
UID:1339@agendaperche
DTSTAMP:20260419T155326
DTSTART:20260530T140000
DTEND:20260530T180000
SUMMARY:Cluedo géant : Le Mystère du Manoir Valombre et Escape Game Tag Hunter
DESCRIPTION:Plus d'infos : https://www.agendaduperche.fr/events/2026-05-30-cluedo-geant-le-mystere-du-manoir-valombre\n\nParticipez à une enquête immersive grandeur nature et à une aventure dynamique en extérieur dans le cadre du festival Si on jouait à La Loupe. \nDeux activités à découvrir :\nLe Mystère du Manoir Valombre : Une enquête grandeur nature palpitante.\nEscape Game Tag Hunter : Une aventure dynamique en équipe se déroulant dans le parc du château.\nCes animations sont proposées uniquement le samedi après-midi.\nInfos & réservations :\nInscription fortement recommandée via le site www.sionjouait.fr (http://www.sionjouait.fr) (rubrique programme) ou via le QR code présent sur l'affiche.
LOCATION:La, 1 Place Vauban, 28240 La Loupe, France
ORGANIZER:Comité des Fêtes de La Loupe
URL:https://www.sionjouait.fr
X-PRICE:Gratuit
CATEGORIES:atelier
END:VEVENT
END:VCALENDAR