BEGIN:VCALENDAR
VERSION:2.0
PRODID:-//Agenda du Perche//Agenda du Perche//FR
CALSCALE:GREGORIAN
METHOD:PUBLISH
X-WR-CALNAME:Agenda du Perche
X-WR-DESC:Événements du territoire du Perche
X-WR-TIMEZONE:Europe/Paris
BEGIN:VEVENT
UID:1389@agendaperche
DTSTAMP:20260419T172612
DTSTART:20260524T093000
DTEND:20260525T123000
SUMMARY:Stage de danse guinéenne
DESCRIPTION:Plus d'infos : https://www.agendaduperche.fr/events/2026-05-24-stage-de-danse-guineenne\n\nStage intensif avec Valentine Kirzbaum et ses musiciens. Laissez-vous porter par les rythmes authentiques et ressentez l’énergie collective.\nÀ propos de l'intervenante :\nValentine Kirzbaum s'est formée aux danses traditionnelles et contemporaines d'Afrique de l'Ouest au Sénégal et en Guinée (Centre Momboye, École des Sables). Sa pédagogie est riche de ses influences pluridisciplinaires (jazz, classique, contemporain) et d'une solide connaissance du corps.\nInfos pratiques :\n* Horaires : 9h30 - 12h30 chaque jour\n* Tarif : 30€ par cours de 3h\n* Accessible à tous les niveaux
LOCATION:Le Chalet, 61400 La Chapelle-Montligeon, France
ORGANIZER:Association Les Mains Verdies
URL:https://lesmainsverdies.com/
X-PRICE:30€
CATEGORIES:formation
END:VEVENT
END:VCALENDAR