BEGIN:VCALENDAR
VERSION:2.0
PRODID:-//Agenda du Perche//Agenda du Perche//FR
CALSCALE:GREGORIAN
METHOD:PUBLISH
X-WR-CALNAME:Agenda du Perche
X-WR-DESC:Événements du territoire du Perche
X-WR-TIMEZONE:Europe/Paris
BEGIN:VEVENT
UID:1362@agendaperche
DTSTAMP:20260419T172527
DTSTART:20260516T200000
DTEND:20260516T235900
SUMMARY:Soirée années 80
DESCRIPTION:Plus d'infos : https://www.agendaduperche.fr/events/2026-05-16-soiree-annees-80\n\nÇa va swinguer un max ! Venez danser sur les tubes des années 80.\nÉvénement organisé dans le cadre de la saison 2026 du Café de La Chapelle.
LOCATION:Pl. Mgr Buguet, 61400 La Chapelle-Montligeon, France
ORGANIZER:Café de La Chapelle
X-PRICE:Inconnu
CATEGORIES:concert
END:VEVENT
END:VCALENDAR