BEGIN:VCALENDAR
VERSION:2.0
PRODID:-//Agenda du Perche//Agenda du Perche//FR
CALSCALE:GREGORIAN
METHOD:PUBLISH
X-WR-CALNAME:Agenda du Perche
X-WR-DESC:Événements du territoire du Perche
X-WR-TIMEZONE:Europe/Paris
BEGIN:VEVENT
UID:1449@agendaperche
DTSTAMP:20260423T151421
DTSTART:20260513T190000
DTEND:20260513T210000
SUMMARY:Vernissage de l'exposition Le monde à ma fenêtre
DESCRIPTION:Plus d'infos : https://www.agendaduperche.fr/events/2026-05-13-vernissage-de-l-exposition-le-monde-a-ma-fenetre\n\nVernissage de l’exposition photographique « Le monde à ma fenêtre » et remise des prix aux lauréats du concours.\nInfos pratiques :\n* Lieu : 13 rue de l’Église, La Loupe\n* Accès : Entrée principale côté rue d’Angennes
LOCATION:13 Rue de l'Église, 28240 La Loupe, France
ORGANIZER:ECA La Trésorerie La Loupe
URL:https://www.instagram.com/p/DXbb50YDPwi/
X-PRICE:Gratuit
CATEGORIES:exposition
END:VEVENT
END:VCALENDAR