BEGIN:VCALENDAR
VERSION:2.0
PRODID:-//Agenda du Perche//Agenda du Perche//FR
CALSCALE:GREGORIAN
METHOD:PUBLISH
X-WR-CALNAME:Agenda du Perche
X-WR-DESC:Événements du territoire du Perche
X-WR-TIMEZONE:Europe/Paris
BEGIN:VEVENT
UID:1388@agendaperche
DTSTAMP:20260419T172654
DTSTART:20260509T180000
DTEND:20260509T213000
SUMMARY:Chants méditatifs Kirtan
DESCRIPTION:Plus d'infos : https://www.agendaduperche.fr/events/2026-05-09-chants-meditatifs-kirtan\n\nLe chant Kirtan est une pratique profondément inspirante qui calme l’esprit, aide à dénouer les tensions et à trouver la liberté intérieure. Nous chantons en sanskrit, langue du cœur, pour expérimenter la joie de chanter en groupe sans recherche de performance.\nProgramme :\n* 18h00 : Session de chants avec Vincent et Julien\n* Suite : Repas partagé végétarien (chacun amène un plat à partager)\nInfos pratiques :\n* Ouvert à tous, même sans savoir chanter.\n* Participation libre.
LOCATION:1 Les Fossés à la Vache 1, 61400 La Chapelle-Montligeon, France
ORGANIZER:Association Les Mains Verdies
URL:https://lesmainsverdies.com/
X-PRICE:Gratuit
CATEGORIES:concert
END:VEVENT
END:VCALENDAR