BEGIN:VCALENDAR
VERSION:2.0
PRODID:-//Agenda du Perche//Agenda du Perche//FR
CALSCALE:GREGORIAN
METHOD:PUBLISH
X-WR-CALNAME:Agenda du Perche
X-WR-DESC:Événements du territoire du Perche
X-WR-TIMEZONE:Europe/Paris
BEGIN:VEVENT
UID:1378@agendaperche
DTSTAMP:20260419T172507
DTSTART:20260508T193000
DTEND:20260508T233000
SUMMARY:Soirée Karaoké
DESCRIPTION:Plus d'infos : https://www.agendaduperche.fr/events/2026-05-08-soiree-karaoke\n\nVenez chanter et vous amuser lors de la soirée karaoké du Café du Commerce.\nInfos & réservations :\n02 14 21 50 06
LOCATION:19 Pl. de L Hôtel de ville, 61290 Longny les Villages, France
ORGANIZER:Cafe du Commerce by Camille Lanez
URL:https://www.instagram.com/p/DXRK7V_DYXK/
X-PRICE:Inconnu
CATEGORIES:concert
END:VEVENT
END:VCALENDAR