BEGIN:VCALENDAR
VERSION:2.0
PRODID:-//Agenda du Perche//Agenda du Perche//FR
CALSCALE:GREGORIAN
METHOD:PUBLISH
X-WR-CALNAME:Agenda du Perche
X-WR-DESC:Événements du territoire du Perche
X-WR-TIMEZONE:Europe/Paris
BEGIN:VEVENT
UID:1373@agendaperche
DTSTAMP:20260419T172754
DTSTART:20260508T190000
DTEND:20260509T000000
SUMMARY:La Boîte Noire : les 90's dans ton bled
DESCRIPTION:Plus d'infos : https://www.agendaduperche.fr/events/2026-05-08-la-boite-noire-les-90-s-dans-ton-bled\n\nLancement des Baz'estivales 2026 avec La boîte noire, la plus petite boîte de nuit itinérante au monde !\nAu programme :\n* Sons des années 90\n* Ambiance festive de 19h à minuit\n* Restauration sur place
LOCATION:1 impasse de la lagune, 28400 Arcisses, France
ORGANIZER:La Baz' Microbrasserie
URL:https://www.instagram.com/p/DW9SkkcjW3G/
X-PRICE:Inconnu
CATEGORIES:concert
END:VEVENT
END:VCALENDAR