BEGIN:VCALENDAR
VERSION:2.0
PRODID:-//Agenda du Perche//Agenda du Perche//FR
CALSCALE:GREGORIAN
METHOD:PUBLISH
X-WR-CALNAME:Agenda du Perche
X-WR-DESC:Événements du territoire du Perche
X-WR-TIMEZONE:Europe/Paris
BEGIN:VEVENT
UID:1447@agendaperche
DTSTAMP:20260423T151036
DTSTART:20260507T190000
DTEND:20260507T210000
SUMMARY:Optimiser son profil Google Business
DESCRIPTION:Plus d'infos : https://www.agendaduperche.fr/events/2026-05-07-optimiser-son-profil-google-business\n\nRéunion de la Bulle pour un moment convivial d'échange et d'apprentissage.\nThématique : Optimiser son profil Google Business.\nAu programme :\n* Apéro partagé autour d'un verre\n* Animation par Vanille de l'Agence Soleia\n* Atelier pratique : venez avec votre ordinateur portable !
LOCATION:18 Rue de la Gare, 28240 La Loupe, France
ORGANIZER:La Bulle des Indé’
URL:https://www.instagram.com/p/DXZPapQCs6P/
X-PRICE:Inconnu
CATEGORIES:atelier
END:VEVENT
END:VCALENDAR